BEGIN:VCALENDAR
VERSION:2.0
PRODID:-//emotionsanonymous.org//NONSGML kigkonsult.se iCalcreator 2.30.10/
 /
CALSCALE:GREGORIAN
METHOD:PUBLISH
UID:cdce45f5-ed90-43a5-87b7-dbd6ad673638
X-WR-CALDESC:
X-WR-RELCALID:563d26167c17c6e59e3420d1aaf673d6
X-WR-TIMEZONE:Europe/Amsterdam
BEGIN:VTIMEZONE
TZID:Europe/Amsterdam
BEGIN:STANDARD
TZNAME:CET
DTSTART:20231029T030000
TZOFFSETFROM:+0200
TZOFFSETTO:+0100
RDATE:20241027T030000
END:STANDARD
BEGIN:DAYLIGHT
TZNAME:CEST
DTSTART:20240331T020000
TZOFFSETFROM:+0100
TZOFFSETTO:+0200
RDATE:20250330T020000
END:DAYLIGHT
END:VTIMEZONE
BEGIN:VEVENT
UID:480c4d42-54e9-4235-9bcb-822a6a346f04
DTSTAMP:20260423T110217Z
DESCRIPTION:
DTSTART;TZID=Europe/Amsterdam:20240413T213000
DTEND;TZID=Europe/Amsterdam:20240415T003000
LOCATION:
SUMMARY:Conferenza dei Servizi Generali
END:VEVENT
END:VCALENDAR
