BEGIN:VCALENDAR
VERSION:2.0
PRODID:-//emotionsanonymous.org//NONSGML kigkonsult.se iCalcreator 2.30.10/
 /
CALSCALE:GREGORIAN
METHOD:PUBLISH
UID:48d4af35-33e7-4844-b706-15e60eb67b62
X-WR-CALDESC:
X-WR-RELCALID:22f680255af90f4512bed5a3825cdb69
X-WR-TIMEZONE:America/New_York
BEGIN:VTIMEZONE
TZID:America/New_York
BEGIN:STANDARD
TZNAME:EST
DTSTART:20231105T020000
TZOFFSETFROM:-0400
TZOFFSETTO:-0500
RDATE:20241103T020000
END:STANDARD
BEGIN:DAYLIGHT
TZNAME:EDT
DTSTART:20230312T020000
TZOFFSETFROM:-0500
TZOFFSETTO:-0400
RDATE:20240310T020000
RDATE:20250309T020000
END:DAYLIGHT
END:VTIMEZONE
BEGIN:VEVENT
UID:1f71e0b6-ba7c-4ef8-baf9-3e82c43ea109
DTSTAMP:20260423T092444Z
DESCRIPTION:
DTSTART;TZID=America/New_York:20240309T160000
DTEND;TZID=America/New_York:20240309T170000
LOCATION:
SUMMARY:Welcoming the Spiritual Awakening  Within Me  Workbook Study Group
END:VEVENT
END:VCALENDAR
