BEGIN:VCALENDAR
VERSION:2.0
PRODID:-//emotionsanonymous.org//NONSGML kigkonsult.se iCalcreator 2.30.10/
 /
CALSCALE:GREGORIAN
METHOD:PUBLISH
UID:b58b0cc1-2903-4279-bc3a-d0a8551466fb
X-WR-CALDESC:
X-WR-RELCALID:8fd72e758d15857c00ff83344640edcf
X-WR-TIMEZONE:America/New_York
BEGIN:VTIMEZONE
TZID:America/New_York
BEGIN:STANDARD
TZNAME:EST
DTSTART:20231105T020000
TZOFFSETFROM:-0400
TZOFFSETTO:-0500
RDATE:20241103T020000
END:STANDARD
BEGIN:DAYLIGHT
TZNAME:EDT
DTSTART:20230312T020000
TZOFFSETFROM:-0500
TZOFFSETTO:-0400
RDATE:20240310T020000
RDATE:20250309T020000
END:DAYLIGHT
END:VTIMEZONE
BEGIN:VEVENT
UID:8f662b61-d1f7-40d3-9fc1-d5f0115f4c83
DTSTAMP:20260423T091539Z
DESCRIPTION:
DTSTART;TZID=America/New_York:20240224T160000
DTEND;TZID=America/New_York:20240224T170000
LOCATION:
SUMMARY:Welcoming the Spiritual Awakening  Within Me  Workbook Study Group
END:VEVENT
END:VCALENDAR
