BEGIN:VCALENDAR
VERSION:2.0
PRODID:-//emotionsanonymous.org//NONSGML kigkonsult.se iCalcreator 2.30.10/
 /
CALSCALE:GREGORIAN
METHOD:PUBLISH
UID:e8794548-b3a7-4f2a-9369-7f13c1974b14
X-WR-CALDESC:
X-WR-RELCALID:dfb1dcf331d08cb421578da664496d24
X-WR-TIMEZONE:Europe/Amsterdam
BEGIN:VTIMEZONE
TZID:Europe/Amsterdam
BEGIN:STANDARD
TZNAME:CET
DTSTART:20211031T030000
TZOFFSETFROM:+0200
TZOFFSETTO:+0100
RDATE:20221030T030000
RDATE:20231029T030000
END:STANDARD
BEGIN:DAYLIGHT
TZNAME:CEST
DTSTART:20220327T020000
TZOFFSETFROM:+0100
TZOFFSETTO:+0200
RDATE:20230326T020000
END:DAYLIGHT
END:VTIMEZONE
BEGIN:VEVENT
UID:a7218a57-1921-494d-bb56-b4bb58a8eb10
DTSTAMP:20260420T123400Z
DESCRIPTION:
DTSTART;TZID=Europe/Amsterdam:20220826T160000
DTEND;TZID=Europe/Amsterdam:20220828T150000
LOCATION:
SUMMARY:Einladung zum deutschsprachigen Jahrestreffen
END:VEVENT
END:VCALENDAR
