BEGIN:VCALENDAR
VERSION:2.0
PRODID:-//emotionsanonymous.org//NONSGML kigkonsult.se iCalcreator 2.30.10/
 /
CALSCALE:GREGORIAN
METHOD:PUBLISH
UID:a9af6079-26be-4ace-82f7-c15c188bd473
X-WR-CALDESC:The retreat is accessible virtually through Zoom and remotely 
 over the phone. Registration is not required. The pamphlets that will be d
 iscussed are Serenity (#59)\, Calm (#96)\, and Higher Power (#88).\n\n\nMe
 eting ID: 881 0473 6179\nPasscode: 556889\n\nPhone Number: +1 301-715-8592
 \nParticipant's Access Code: 556889#
X-WR-RELCALID:1186ee8b33ff04d1d6b133242e4e8a7d
X-WR-TIMEZONE:America/Chicago
BEGIN:VTIMEZONE
TZID:America/Chicago
BEGIN:STANDARD
TZNAME:CST
DTSTART:20211107T020000
TZOFFSETFROM:-0500
TZOFFSETTO:-0600
RDATE:20221106T020000
RDATE:20231105T020000
END:STANDARD
BEGIN:DAYLIGHT
TZNAME:CDT
DTSTART:20220313T020000
TZOFFSETFROM:-0600
TZOFFSETTO:-0500
RDATE:20230312T020000
END:DAYLIGHT
END:VTIMEZONE
BEGIN:VEVENT
UID:f29f1391-1315-47cb-8a4d-2365f64909dd
DTSTAMP:20260420T123204Z
DESCRIPTION:The retreat is accessible virtually through Zoom and remotely o
 ver the phone. Registration is not required. The pamphlets that will be di
 scussed are Serenity (#59)\, Calm (#96)\, and Higher Power (#88).\n\n\nMee
 ting ID: 881 0473 6179\nPasscode: 556889\n\nPhone Number: +1 301-715-8592
 \nParticipant's Access Code: 556889#
DTSTART;TZID=America/Chicago:20220813T090000
DTEND;TZID=America/Chicago:20220813T143000
LOCATION:https://us02web.zoom.us/j/88104736179?pwd=PaEdk4N67A38qbDwzNZ-cpeq
 7cGSlL.1
SUMMARY:EA Virtual Pamphlet Retreat
END:VEVENT
END:VCALENDAR
