BEGIN:VCALENDAR
VERSION:2.0
PRODID:-//emotionsanonymous.org//NONSGML kigkonsult.se iCalcreator 2.30.10/
 /
CALSCALE:GREGORIAN
METHOD:PUBLISH
UID:0db3768c-c7a7-44e1-87a7-53e7831ba9b9
X-WR-CALDESC:The pamphlets that will be used during the retreat are EA’s 12
  Step Program (#1)\, From Surviving to Thriving (#26)\, Trust (#89)\, and 
 Gratitude (#95). Please confirm attendance by February 21\, 2022. You will
  receive additional information and the Zoom link once you confirm you wil
 l be attending.\n
X-WR-RELCALID:19d94fba28464d09624d0e46a47f0ec0
X-WR-TIMEZONE:America/Chicago
BEGIN:VTIMEZONE
TZID:America/Chicago
BEGIN:STANDARD
TZNAME:CST
DTSTART:20211107T020000
TZOFFSETFROM:-0500
TZOFFSETTO:-0600
RDATE:20221106T020000
END:STANDARD
BEGIN:DAYLIGHT
TZNAME:CDT
DTSTART:20210314T020000
TZOFFSETFROM:-0600
TZOFFSETTO:-0500
RDATE:20220313T020000
RDATE:20230312T020000
END:DAYLIGHT
END:VTIMEZONE
BEGIN:VEVENT
UID:bfaa859b-bb48-439b-921f-db56da1d64a6
DTSTAMP:20260420T224527Z
DESCRIPTION:The pamphlets that will be used during the retreat are EA’s 12 
 Step Program (#1)\, From Surviving to Thriving (#26)\, Trust (#89)\, and G
 ratitude (#95). Please confirm attendance by February 21\, 2022. You will 
 receive additional information and the Zoom link once you confirm you will
  be attending.\n
DTSTART;TZID=America/Chicago:20220226T090000
DTEND;TZID=America/Chicago:20220226T143000
LOCATION:The St. Cloud\, MN Virtual Retreat Will be Held Through Zoom
SUMMARY:Emotions Anonymous St. Cloud\, MN Virtual Retreat
END:VEVENT
END:VCALENDAR
