BEGIN:VCALENDAR
VERSION:2.0
PRODID:-//emotionsanonymous.org//NONSGML kigkonsult.se iCalcreator 2.30.10/
 /
CALSCALE:GREGORIAN
METHOD:PUBLISH
UID:a66c92f8-a950-42d2-9cf7-394e78e5241b
X-WR-CALDESC:
X-WR-RELCALID:c2ce8685b53be5a3fcc5c8735be10701
X-WR-TIMEZONE:America/Chicago
BEGIN:VTIMEZONE
TZID:America/Chicago
BEGIN:STANDARD
TZNAME:CST
DTSTART:20211107T020000
TZOFFSETFROM:-0500
TZOFFSETTO:-0600
RDATE:20221106T020000
END:STANDARD
BEGIN:DAYLIGHT
TZNAME:CDT
DTSTART:20210314T020000
TZOFFSETFROM:-0600
TZOFFSETTO:-0500
RDATE:20220313T020000
RDATE:20230312T020000
END:DAYLIGHT
END:VTIMEZONE
BEGIN:VEVENT
UID:2f249ebe-62da-4c38-9b08-a35d2014fa46
DTSTAMP:20260420T223855Z
DESCRIPTION:
DTSTART;TZID=America/Chicago:20220222T180000
DTEND;TZID=America/Chicago:20220222T193000
LOCATION:https://www.freeconferencecall.com/wall/eatelephoneconference5
SUMMARY:EA's 12 by 12 Workbook Study Group Session #4
END:VEVENT
END:VCALENDAR
