BEGIN:VCALENDAR
VERSION:2.0
PRODID:-//emotionsanonymous.org//NONSGML kigkonsult.se iCalcreator 2.30.10/
 /
CALSCALE:GREGORIAN
METHOD:PUBLISH
UID:ed86a0f7-789c-46cd-90cc-6e64c57b684a
X-WR-CALDESC:The retreat will take place at Christ the King Retreat Center 
 in Buffalo\, MN. \n\nIf you have questions about the retreat please reach 
 out to Dave Q at quastde62@gmail.com or Diana G at dlsguenth@gmail.com.\nI
 f you have questions about registration contact Bobbie L at labobbie1002@g
 mail.com
X-WR-RELCALID:7c348949a70fe8339cb0d279d1735035
X-WR-TIMEZONE:America/Chicago
BEGIN:VTIMEZONE
TZID:America/Chicago
BEGIN:STANDARD
TZNAME:CST
DTSTART:20211107T020000
TZOFFSETFROM:-0500
TZOFFSETTO:-0600
RDATE:20221106T020000
END:STANDARD
BEGIN:DAYLIGHT
TZNAME:CDT
DTSTART:20210314T020000
TZOFFSETFROM:-0600
TZOFFSETTO:-0500
RDATE:20220313T020000
RDATE:20230312T020000
END:DAYLIGHT
END:VTIMEZONE
BEGIN:VEVENT
UID:7771ec7b-f866-4d4a-98c8-6b20d94555a3
DTSTAMP:20260420T224957Z
DESCRIPTION:The retreat will take place at Christ the King Retreat Center i
 n Buffalo\, MN. \n\nIf you have questions about the retreat please reach o
 ut to Dave Q at quastde62@gmail.com or Diana G at dlsguenth@gmail.com.\nIf
  you have questions about registration contact Bobbie L at labobbie1002@gm
 ail.com
DTSTART;TZID=America/Chicago:20220218T194500
DTEND;TZID=America/Chicago:20220220T130000
LOCATION:621 First Ave\, Buffalo\, MN 55313 US
SUMMARY:Minnesota's 106th EA Retreat Weekend
END:VEVENT
END:VCALENDAR
