BEGIN:VCALENDAR
VERSION:2.0
PRODID:-//emotionsanonymous.org//NONSGML kigkonsult.se iCalcreator 2.30.10/
 /
CALSCALE:GREGORIAN
METHOD:PUBLISH
UID:1946da6d-8855-4226-81d2-2be804aa992c
X-WR-CALDESC:
X-WR-RELCALID:74247d1fe3011897b40da167114512b9
X-WR-TIMEZONE:America/Chicago
BEGIN:VTIMEZONE
TZID:America/Chicago
BEGIN:STANDARD
TZNAME:CST
DTSTART:20211107T020000
TZOFFSETFROM:-0500
TZOFFSETTO:-0600
RDATE:20221106T020000
END:STANDARD
BEGIN:DAYLIGHT
TZNAME:CDT
DTSTART:20210314T020000
TZOFFSETFROM:-0600
TZOFFSETTO:-0500
RDATE:20220313T020000
RDATE:20230312T020000
END:DAYLIGHT
END:VTIMEZONE
BEGIN:VEVENT
UID:c4aff7d0-2f3a-40e5-95b4-22c2bfdcec6f
DTSTAMP:20260420T224527Z
DESCRIPTION:
DTSTART;TZID=America/Chicago:20220215T180000
DTEND;TZID=America/Chicago:20220215T193000
LOCATION:https://www.freeconferencecall.com/wall/eatelephoneconference5
SUMMARY:EA's 12 by 12 Workbook Study Group Session #3
END:VEVENT
END:VCALENDAR
