BEGIN:VCALENDAR
VERSION:2.0
PRODID:-//emotionsanonymous.org//NONSGML kigkonsult.se iCalcreator 2.30.10/
 /
CALSCALE:GREGORIAN
METHOD:PUBLISH
UID:e76483ee-f985-4a7b-85df-6f29ee9309d1
X-WR-CALDESC:PFÉA Inc.\, Publications Françaises Émotifs Anonymes est le ce
 ntre de service chargé de la traduction en français de la documentation de
  Emotions Anonymous International. PFÉA est aussi responsable de la public
 ation et de la distribution de cette documentation. PFÉA distribue aussi d
 e la documentation anglaise partout au Canada.\n\n
X-WR-RELCALID:ec7ba6b2fa0b87534b744cc88f3c2253
X-WR-TIMEZONE:America/New_York
BEGIN:VTIMEZONE
TZID:America/New_York
BEGIN:STANDARD
TZNAME:EST
DTSTART:20211107T020000
TZOFFSETFROM:-0400
TZOFFSETTO:-0500
RDATE:20221106T020000
END:STANDARD
BEGIN:DAYLIGHT
TZNAME:EDT
DTSTART:20210314T020000
TZOFFSETFROM:-0500
TZOFFSETTO:-0400
RDATE:20220313T020000
RDATE:20230312T020000
END:DAYLIGHT
END:VTIMEZONE
BEGIN:VEVENT
UID:8c64a0a8-7106-4de7-8c42-ae498ed35856
DTSTAMP:20260420T224359Z
DESCRIPTION:PFÉA Inc.\, Publications Françaises Émotifs Anonymes est le cen
 tre de service chargé de la traduction en français de la documentation de 
 Emotions Anonymous International. PFÉA est aussi responsable de la publica
 tion et de la distribution de cette documentation. PFÉA distribue aussi de
  la documentation anglaise partout au Canada.\n\n
DTSTART;TZID=America/New_York:20220212T100000
DTEND;TZID=America/New_York:20220212T110000
LOCATION:578 Rue Saint-Laurent\, Trois-Rivières\, QC G8T 9C1 CA
SUMMARY:La prochaine réunion de Publications Françaises Émotifs Anonymes
END:VEVENT
END:VCALENDAR
