BEGIN:VCALENDAR
VERSION:2.0
PRODID:-//emotionsanonymous.org//NONSGML kigkonsult.se iCalcreator 2.30.10/
 /
CALSCALE:GREGORIAN
METHOD:PUBLISH
UID:ab9a4173-d3c3-45f9-a01c-d07056644736
X-WR-CALDESC:
X-WR-RELCALID:5f3df2bd7ab86f6dd3e562fbe212e618
X-WR-TIMEZONE:America/Chicago
BEGIN:VTIMEZONE
TZID:America/Chicago
BEGIN:STANDARD
TZNAME:CST
DTSTART:20211107T020000
TZOFFSETFROM:-0500
TZOFFSETTO:-0600
RDATE:20221106T020000
END:STANDARD
BEGIN:DAYLIGHT
TZNAME:CDT
DTSTART:20210314T020000
TZOFFSETFROM:-0600
TZOFFSETTO:-0500
RDATE:20220313T020000
RDATE:20230312T020000
END:DAYLIGHT
END:VTIMEZONE
BEGIN:VEVENT
UID:c61e4a23-e2fc-4f8d-b3f7-ab9d8aea7de1
DTSTAMP:20260420T224149Z
DESCRIPTION:
DTSTART;TZID=America/Chicago:20220208T180000
DTEND;TZID=America/Chicago:20220208T193000
LOCATION:https://www.freeconferencecall.com/wall/eatelephoneconference5
SUMMARY:EA's 12 by 12 Workbook Study Group Session #2
END:VEVENT
END:VCALENDAR
