BEGIN:VCALENDAR
VERSION:2.0
PRODID:-//emotionsanonymous.org//NONSGML kigkonsult.se iCalcreator 2.30.10/
 /
CALSCALE:GREGORIAN
METHOD:PUBLISH
UID:1aa4486d-40db-4998-a437-0a8a814d9edc
X-WR-CALDESC:The group will be using EA's Big Book and EA's 12 by 12 Workbo
 ok (#12).\n\nJoin by Phone: +1 540-792-0104\nParticipant's Access Code: 80
 8747#
X-WR-RELCALID:10fcb0de75d55fd779c0a6a7b50d21a3
X-WR-TIMEZONE:America/Chicago
BEGIN:VTIMEZONE
TZID:America/Chicago
BEGIN:STANDARD
TZNAME:CST
DTSTART:20211107T020000
TZOFFSETFROM:-0500
TZOFFSETTO:-0600
RDATE:20221106T020000
END:STANDARD
BEGIN:DAYLIGHT
TZNAME:CDT
DTSTART:20210314T020000
TZOFFSETFROM:-0600
TZOFFSETTO:-0500
RDATE:20220313T020000
RDATE:20230312T020000
END:DAYLIGHT
END:VTIMEZONE
BEGIN:VEVENT
UID:c1373feb-d72f-4245-bcc6-ec6e14fb87b6
DTSTAMP:20260420T224149Z
DESCRIPTION:The group will be using EA's Big Book and EA's 12 by 12 Workboo
 k (#12).\n\nJoin by Phone: +1 540-792-0104\nParticipant's Access Code: 808
 747#
DTSTART;TZID=America/Chicago:20220201T180000
DTEND;TZID=America/Chicago:20220201T193000
LOCATION:https://www.freeconferencecall.com/wall/eatelephoneconference5
SUMMARY:EA's 12 by 12 Workbook Study Group Session #1
END:VEVENT
END:VCALENDAR
