BEGIN:VCALENDAR
VERSION:2.0
PRODID:-//emotionsanonymous.org//NONSGML kigkonsult.se iCalcreator 2.30.10/
 /
CALSCALE:GREGORIAN
METHOD:PUBLISH
UID:a8eb82f3-0195-4b85-bf04-6472403119e5
X-WR-CALDESC:
X-WR-RELCALID:f1891d4de4dcc0695c539e36385f3710
X-WR-TIMEZONE:America/Chicago
BEGIN:VTIMEZONE
TZID:America/Chicago
BEGIN:STANDARD
TZNAME:CST
DTSTART:20211107T020000
TZOFFSETFROM:-0500
TZOFFSETTO:-0600
RDATE:20221106T020000
END:STANDARD
BEGIN:DAYLIGHT
TZNAME:CDT
DTSTART:20210314T020000
TZOFFSETFROM:-0600
TZOFFSETTO:-0500
RDATE:20220313T020000
RDATE:20230312T020000
END:DAYLIGHT
END:VTIMEZONE
BEGIN:VEVENT
UID:fc1a236d-8308-4dc4-86bf-ce78801ba7b2
DTSTAMP:20260421T023253Z
DESCRIPTION:
DTSTART;TZID=America/Chicago:20211231T100000
DTEND;TZID=America/Chicago:20211231T140000
LOCATION:https://www.freeconferencecall.com/wall/eatelephoneconference5
SUMMARY:New Year's Eve 2021 Morning Holiday Meeting
END:VEVENT
END:VCALENDAR
