BEGIN:VCALENDAR
VERSION:2.0
PRODID:-//emotionsanonymous.org//NONSGML kigkonsult.se iCalcreator 2.30.10/
 /
CALSCALE:GREGORIAN
METHOD:PUBLISH
UID:6a55872c-6c33-41ee-bdbb-4697a221b46d
X-WR-CALDESC:
X-WR-RELCALID:e6fc65b1645da9ea6f0e445ef4dbb571
X-WR-TIMEZONE:America/Chicago
BEGIN:VTIMEZONE
TZID:America/Chicago
BEGIN:STANDARD
TZNAME:CST
DTSTART:20211107T020000
TZOFFSETFROM:-0500
TZOFFSETTO:-0600
RDATE:20221106T020000
END:STANDARD
BEGIN:DAYLIGHT
TZNAME:CDT
DTSTART:20210314T020000
TZOFFSETFROM:-0600
TZOFFSETTO:-0500
RDATE:20220313T020000
RDATE:20230312T020000
END:DAYLIGHT
END:VTIMEZONE
BEGIN:VEVENT
UID:ee0b26c7-fdbb-42db-8228-c7cab2fc619e
DTSTAMP:20260421T023206Z
DESCRIPTION:
DTSTART;TZID=America/Chicago:20211231T190000
DTEND;TZID=America/Chicago:20211231T200000
LOCATION:https://www.freeconferencecall.com/wall/eatelephoneconference5
SUMMARY:New Year's Eve 2021 Evening Holiday Meeting
END:VEVENT
END:VCALENDAR
