BEGIN:VCALENDAR
VERSION:2.0
PRODID:-//emotionsanonymous.org//NONSGML kigkonsult.se iCalcreator 2.30.10/
 /
CALSCALE:GREGORIAN
METHOD:PUBLISH
UID:9023b6b7-0a75-47ae-90a9-f6a83b4a2a5a
X-WR-CALDESC:
X-WR-RELCALID:427ff5ff86e854a8bd5729bd9fab0a15
X-WR-TIMEZONE:America/Chicago
BEGIN:VTIMEZONE
TZID:America/Chicago
BEGIN:STANDARD
TZNAME:CST
DTSTART:20211107T020000
TZOFFSETFROM:-0500
TZOFFSETTO:-0600
RDATE:20221106T020000
END:STANDARD
BEGIN:DAYLIGHT
TZNAME:CDT
DTSTART:20210314T020000
TZOFFSETFROM:-0600
TZOFFSETTO:-0500
RDATE:20220313T020000
RDATE:20230312T020000
END:DAYLIGHT
END:VTIMEZONE
BEGIN:VEVENT
UID:c4c40a9a-081a-4fc7-b7f9-dc73451c1bbe
DTSTAMP:20260421T024241Z
DESCRIPTION:
DTSTART;TZID=America/Chicago:20211231T140000
DTEND;TZID=America/Chicago:20211231T190000
LOCATION:https://www.freeconferencecall.com/wall/eatelephoneconference5
SUMMARY:New Year's Eve 2021 Afternoon Holiday Meeting
END:VEVENT
END:VCALENDAR
