BEGIN:VCALENDAR
VERSION:2.0
PRODID:-//emotionsanonymous.org//NONSGML kigkonsult.se iCalcreator 2.30.10/
 /
CALSCALE:GREGORIAN
METHOD:PUBLISH
UID:6fb94292-fad8-4598-b176-a054b418660f
X-WR-CALDESC:
X-WR-RELCALID:f5224a26f4db454e923254898fef6ecd
X-WR-TIMEZONE:America/Chicago
BEGIN:VTIMEZONE
TZID:America/Chicago
BEGIN:STANDARD
TZNAME:CST
DTSTART:20211107T020000
TZOFFSETFROM:-0500
TZOFFSETTO:-0600
RDATE:20221106T020000
END:STANDARD
BEGIN:DAYLIGHT
TZNAME:CDT
DTSTART:20210314T020000
TZOFFSETFROM:-0600
TZOFFSETTO:-0500
RDATE:20220313T020000
RDATE:20230312T020000
END:DAYLIGHT
END:VTIMEZONE
BEGIN:VEVENT
UID:d57e2800-a2a4-4ce1-b54d-a7363fd0da4d
DTSTAMP:20260421T025414Z
DESCRIPTION:
DTSTART;TZID=America/Chicago:20211225T100000
DTEND;TZID=America/Chicago:20211225T140000
LOCATION:https://www.freeconferencecall.com/wall/eatelephoneconference5
SUMMARY:Christmas Day 2021 Morning Holiday Meeting
END:VEVENT
END:VCALENDAR
