BEGIN:VCALENDAR
VERSION:2.0
PRODID:-//emotionsanonymous.org//NONSGML kigkonsult.se iCalcreator 2.30.10/
 /
CALSCALE:GREGORIAN
METHOD:PUBLISH
UID:6a877202-c0b5-4fb3-82d7-3771a1e1767a
X-WR-CALDESC:
X-WR-RELCALID:6442ee8e2e4c47c9e8838a840265b4a7
X-WR-TIMEZONE:America/Chicago
BEGIN:VTIMEZONE
TZID:America/Chicago
BEGIN:STANDARD
TZNAME:CST
DTSTART:20211107T020000
TZOFFSETFROM:-0500
TZOFFSETTO:-0600
RDATE:20221106T020000
END:STANDARD
BEGIN:DAYLIGHT
TZNAME:CDT
DTSTART:20210314T020000
TZOFFSETFROM:-0600
TZOFFSETTO:-0500
RDATE:20220313T020000
RDATE:20230312T020000
END:DAYLIGHT
END:VTIMEZONE
BEGIN:VEVENT
UID:0532432b-544e-4be0-9271-7afd9d1c9ff4
DTSTAMP:20260421T023327Z
DESCRIPTION:
DTSTART;TZID=America/Chicago:20211225T190000
DTEND;TZID=America/Chicago:20211225T200000
LOCATION:https://www.freeconferencecall.com/wall/eatelephoneconference5
SUMMARY:Christmas Day 2021 Evening Holiday Meeting
END:VEVENT
END:VCALENDAR
