BEGIN:VCALENDAR
VERSION:2.0
PRODID:-//emotionsanonymous.org//NONSGML kigkonsult.se iCalcreator 2.30.10/
 /
CALSCALE:GREGORIAN
METHOD:PUBLISH
UID:1f8c08ec-f03d-496e-80e0-bf922e598aa3
X-WR-CALDESC:
X-WR-RELCALID:ebd3a304732487928e6dc9efc8757897
X-WR-TIMEZONE:America/Chicago
BEGIN:VTIMEZONE
TZID:America/Chicago
BEGIN:STANDARD
TZNAME:CST
DTSTART:20211107T020000
TZOFFSETFROM:-0500
TZOFFSETTO:-0600
RDATE:20221106T020000
END:STANDARD
BEGIN:DAYLIGHT
TZNAME:CDT
DTSTART:20210314T020000
TZOFFSETFROM:-0600
TZOFFSETTO:-0500
RDATE:20220313T020000
RDATE:20230312T020000
END:DAYLIGHT
END:VTIMEZONE
BEGIN:VEVENT
UID:66761783-3374-4fe7-831d-a75f6a10e0e3
DTSTAMP:20260421T023721Z
DESCRIPTION:
DTSTART;TZID=America/Chicago:20211225T140000
DTEND;TZID=America/Chicago:20211225T190000
LOCATION:https://www.freeconferencecall.com/wall/eatelephoneconference5
SUMMARY:Christmas Day 2021 Afternoon Holiday Meeting
END:VEVENT
END:VCALENDAR
