BEGIN:VCALENDAR
VERSION:2.0
PRODID:-//emotionsanonymous.org//NONSGML kigkonsult.se iCalcreator 2.30.10/
 /
CALSCALE:GREGORIAN
METHOD:PUBLISH
UID:2db65120-1c40-462f-8e47-ca17e09bb25e
X-WR-CALDESC:
X-WR-RELCALID:4258822ea8f4c42472262115053e639a
X-WR-TIMEZONE:America/Chicago
BEGIN:VTIMEZONE
TZID:America/Chicago
BEGIN:STANDARD
TZNAME:CST
DTSTART:20211107T020000
TZOFFSETFROM:-0500
TZOFFSETTO:-0600
RDATE:20221106T020000
END:STANDARD
BEGIN:DAYLIGHT
TZNAME:CDT
DTSTART:20210314T020000
TZOFFSETFROM:-0600
TZOFFSETTO:-0500
RDATE:20220313T020000
RDATE:20230312T020000
END:DAYLIGHT
END:VTIMEZONE
BEGIN:VEVENT
UID:7fa2fcab-0937-4961-81d7-a6cd6d815699
DTSTAMP:20260421T023201Z
DESCRIPTION:
DTSTART;TZID=America/Chicago:20211224T100000
DTEND;TZID=America/Chicago:20211224T140000
LOCATION:https://www.freeconferencecall.com/wall/eatelephoneconference5
SUMMARY:Christmas Eve 2021 Morning Holiday Meeting
END:VEVENT
END:VCALENDAR
