BEGIN:VCALENDAR
VERSION:2.0
PRODID:-//emotionsanonymous.org//NONSGML kigkonsult.se iCalcreator 2.30.10/
 /
CALSCALE:GREGORIAN
METHOD:PUBLISH
UID:b7170522-9d3d-4c04-bdb5-4d392bd18bcb
X-WR-CALDESC:
X-WR-RELCALID:7fcc9a470f5f2f0bd7a5f2f5f157b923
X-WR-TIMEZONE:America/Chicago
BEGIN:VTIMEZONE
TZID:America/Chicago
BEGIN:STANDARD
TZNAME:CST
DTSTART:20211107T020000
TZOFFSETFROM:-0500
TZOFFSETTO:-0600
RDATE:20221106T020000
END:STANDARD
BEGIN:DAYLIGHT
TZNAME:CDT
DTSTART:20210314T020000
TZOFFSETFROM:-0600
TZOFFSETTO:-0500
RDATE:20220313T020000
RDATE:20230312T020000
END:DAYLIGHT
END:VTIMEZONE
BEGIN:VEVENT
UID:73752442-af0b-4fa3-881b-e8e6e6fe9d14
DTSTAMP:20260421T022605Z
DESCRIPTION:
DTSTART;TZID=America/Chicago:20211224T190000
DTEND;TZID=America/Chicago:20211224T200000
LOCATION:https://www.freeconferencecall.com/wall/eatelephoneconference5
SUMMARY:Christmas Eve 2021 Evening Holiday Meeting
END:VEVENT
END:VCALENDAR
