BEGIN:VCALENDAR
VERSION:2.0
PRODID:-//emotionsanonymous.org//NONSGML kigkonsult.se iCalcreator 2.30.10/
 /
CALSCALE:GREGORIAN
METHOD:PUBLISH
UID:3d3d3d8c-d29d-4181-bb9c-1a2250c12198
X-WR-CALDESC:
X-WR-RELCALID:aa31cc86574e039630b7d141bb6e252b
X-WR-TIMEZONE:America/Chicago
BEGIN:VTIMEZONE
TZID:America/Chicago
BEGIN:STANDARD
TZNAME:CST
DTSTART:20211107T020000
TZOFFSETFROM:-0500
TZOFFSETTO:-0600
RDATE:20221106T020000
END:STANDARD
BEGIN:DAYLIGHT
TZNAME:CDT
DTSTART:20210314T020000
TZOFFSETFROM:-0600
TZOFFSETTO:-0500
RDATE:20220313T020000
RDATE:20230312T020000
END:DAYLIGHT
END:VTIMEZONE
BEGIN:VEVENT
UID:46af2495-f3dc-4435-b89e-f913986d1ee3
DTSTAMP:20260421T023951Z
DESCRIPTION:
DTSTART;TZID=America/Chicago:20211224T140000
DTEND;TZID=America/Chicago:20211224T190000
LOCATION:https://www.freeconferencecall.com/wall/eatelephoneconference5
SUMMARY:Christmas Eve 2021 Afternoon Holiday Meeting
END:VEVENT
END:VCALENDAR
