BEGIN:VCALENDAR
VERSION:2.0
PRODID:-//emotionsanonymous.org//NONSGML kigkonsult.se iCalcreator 2.30.10/
 /
CALSCALE:GREGORIAN
METHOD:PUBLISH
UID:35475905-4d5c-4b76-9e80-aa8be838da0d
X-WR-CALDESC:
X-WR-RELCALID:a07284e978ece8363b7fff4e2a856151
X-WR-TIMEZONE:America/Chicago
BEGIN:VTIMEZONE
TZID:America/Chicago
BEGIN:STANDARD
TZNAME:CST
DTSTART:20211107T020000
TZOFFSETFROM:-0500
TZOFFSETTO:-0600
RDATE:20221106T020000
END:STANDARD
BEGIN:DAYLIGHT
TZNAME:CDT
DTSTART:20210314T020000
TZOFFSETFROM:-0600
TZOFFSETTO:-0500
RDATE:20220313T020000
RDATE:20230312T020000
END:DAYLIGHT
END:VTIMEZONE
BEGIN:VEVENT
UID:287d36e2-e5f7-471f-8eaf-ff6c2e51fb61
DTSTAMP:20260421T042556Z
DESCRIPTION:
DTSTART;TZID=America/Chicago:20211126T100000
DTEND;TZID=America/Chicago:20211126T140000
LOCATION:https://www.freeconferencecall.com/wall/eatelephoneconference5
SUMMARY:Black Friday 2021 Morning Holiday Meeting
END:VEVENT
END:VCALENDAR
