BEGIN:VCALENDAR
VERSION:2.0
PRODID:-//emotionsanonymous.org//NONSGML kigkonsult.se iCalcreator 2.30.10/
 /
CALSCALE:GREGORIAN
METHOD:PUBLISH
UID:df63f0ab-b37a-41f3-9a65-bf5da169caea
X-WR-CALDESC:
X-WR-RELCALID:985ff7791d43475747ae3106821d534d
X-WR-TIMEZONE:America/Chicago
BEGIN:VTIMEZONE
TZID:America/Chicago
BEGIN:STANDARD
TZNAME:CST
DTSTART:20211107T020000
TZOFFSETFROM:-0500
TZOFFSETTO:-0600
RDATE:20221106T020000
END:STANDARD
BEGIN:DAYLIGHT
TZNAME:CDT
DTSTART:20210314T020000
TZOFFSETFROM:-0600
TZOFFSETTO:-0500
RDATE:20220313T020000
RDATE:20230312T020000
END:DAYLIGHT
END:VTIMEZONE
BEGIN:VEVENT
UID:84e1af4f-e2a4-499f-b935-a33941645d92
DTSTAMP:20260421T042126Z
DESCRIPTION:
DTSTART;TZID=America/Chicago:20211126T190000
DTEND;TZID=America/Chicago:20211126T200000
LOCATION:https://www.freeconferencecall.com/wall/eatelephoneconference5
SUMMARY:Black Friday 2021 Evening Holiday Meeting
END:VEVENT
END:VCALENDAR
