BEGIN:VCALENDAR
VERSION:2.0
PRODID:-//emotionsanonymous.org//NONSGML kigkonsult.se iCalcreator 2.30.10/
 /
CALSCALE:GREGORIAN
METHOD:PUBLISH
UID:7b7236b0-90f6-463e-9b63-eb90b130305b
X-WR-CALDESC:
X-WR-RELCALID:fe7b3fd51ef2fe715823d4acb2c6fad6
X-WR-TIMEZONE:America/Chicago
BEGIN:VTIMEZONE
TZID:America/Chicago
BEGIN:STANDARD
TZNAME:CST
DTSTART:20211107T020000
TZOFFSETFROM:-0500
TZOFFSETTO:-0600
RDATE:20221106T020000
END:STANDARD
BEGIN:DAYLIGHT
TZNAME:CDT
DTSTART:20210314T020000
TZOFFSETFROM:-0600
TZOFFSETTO:-0500
RDATE:20220313T020000
RDATE:20230312T020000
END:DAYLIGHT
END:VTIMEZONE
BEGIN:VEVENT
UID:ca26ba3d-7e67-486e-954e-588cf432849a
DTSTAMP:20260421T042252Z
DESCRIPTION:
DTSTART;TZID=America/Chicago:20211126T140000
DTEND;TZID=America/Chicago:20211126T190000
LOCATION:https://www.freeconferencecall.com/wall/eatelephoneconference5
SUMMARY:Black Friday 2021 Afternoon Holiday Meeting
END:VEVENT
END:VCALENDAR
