BEGIN:VCALENDAR
VERSION:2.0
PRODID:-//emotionsanonymous.org//NONSGML kigkonsult.se iCalcreator 2.30.10/
 /
CALSCALE:GREGORIAN
METHOD:PUBLISH
UID:278cae93-5fa8-41c1-af52-aee768266e65
X-WR-CALDESC:
X-WR-RELCALID:5ccb29b82240af93687d5ce8e2725f21
X-WR-TIMEZONE:America/Chicago
BEGIN:VTIMEZONE
TZID:America/Chicago
BEGIN:STANDARD
TZNAME:CST
DTSTART:20211107T020000
TZOFFSETFROM:-0500
TZOFFSETTO:-0600
RDATE:20221106T020000
END:STANDARD
BEGIN:DAYLIGHT
TZNAME:CDT
DTSTART:20210314T020000
TZOFFSETFROM:-0600
TZOFFSETTO:-0500
RDATE:20220313T020000
RDATE:20230312T020000
END:DAYLIGHT
END:VTIMEZONE
BEGIN:VEVENT
UID:28e4158a-6cc4-415e-8cca-649c8a611e9e
DTSTAMP:20260421T043845Z
DESCRIPTION:
DTSTART;TZID=America/Chicago:20211125T100000
DTEND;TZID=America/Chicago:20211125T140000
LOCATION:https://www.freeconferencecall.com/wall/eatelephoneconference5
SUMMARY:Thanksgiving 2021 Morning Holiday Meeting
END:VEVENT
END:VCALENDAR
