BEGIN:VCALENDAR
VERSION:2.0
PRODID:-//emotionsanonymous.org//NONSGML kigkonsult.se iCalcreator 2.30.10/
 /
CALSCALE:GREGORIAN
METHOD:PUBLISH
UID:12130b8b-aebe-419c-aa8d-c4e5df301324
X-WR-CALDESC:
X-WR-RELCALID:268af9c36b7256997b64ae37d359325f
X-WR-TIMEZONE:America/Chicago
BEGIN:VTIMEZONE
TZID:America/Chicago
BEGIN:STANDARD
TZNAME:CST
DTSTART:20211107T020000
TZOFFSETFROM:-0500
TZOFFSETTO:-0600
RDATE:20221106T020000
END:STANDARD
BEGIN:DAYLIGHT
TZNAME:CDT
DTSTART:20210314T020000
TZOFFSETFROM:-0600
TZOFFSETTO:-0500
RDATE:20220313T020000
RDATE:20230312T020000
END:DAYLIGHT
END:VTIMEZONE
BEGIN:VEVENT
UID:46fc9c02-00e8-4feb-960b-d0d3feb4912b
DTSTAMP:20260421T042751Z
DESCRIPTION:
DTSTART;TZID=America/Chicago:20211125T190000
DTEND;TZID=America/Chicago:20211125T200000
LOCATION:https://www.freeconferencecall.com/wall/eatelephoneconference5
SUMMARY:Thanksgiving 2021 Evening Holiday Meeting
END:VEVENT
END:VCALENDAR
