BEGIN:VCALENDAR
VERSION:2.0
PRODID:-//emotionsanonymous.org//NONSGML kigkonsult.se iCalcreator 2.30.10/
 /
CALSCALE:GREGORIAN
METHOD:PUBLISH
UID:9c67e25b-e57e-4d5e-b86e-30e06e6d0c11
X-WR-CALDESC:
X-WR-RELCALID:477468ee913ab23887e1c0cf456a4760
X-WR-TIMEZONE:America/Chicago
BEGIN:VTIMEZONE
TZID:America/Chicago
BEGIN:STANDARD
TZNAME:CST
DTSTART:20211107T020000
TZOFFSETFROM:-0500
TZOFFSETTO:-0600
RDATE:20221106T020000
END:STANDARD
BEGIN:DAYLIGHT
TZNAME:CDT
DTSTART:20210314T020000
TZOFFSETFROM:-0600
TZOFFSETTO:-0500
RDATE:20220313T020000
RDATE:20230312T020000
END:DAYLIGHT
END:VTIMEZONE
BEGIN:VEVENT
UID:22c41a18-e7e7-4213-b6c9-bc122b50b3bc
DTSTAMP:20260421T042126Z
DESCRIPTION:
DTSTART;TZID=America/Chicago:20211125T140000
DTEND;TZID=America/Chicago:20211125T190000
LOCATION:https://www.freeconferencecall.com/wall/eatelephoneconference5
SUMMARY:Thanksgiving 2021 Afternoon Holiday Meeting
END:VEVENT
END:VCALENDAR
