BEGIN:VCALENDAR
VERSION:2.0
PRODID:-//emotionsanonymous.org//NONSGML kigkonsult.se iCalcreator 2.30.10/
 /
CALSCALE:GREGORIAN
METHOD:PUBLISH
UID:40671ee4-89ad-476b-92d9-081548d5670a
X-WR-CALDESC:The virtual meeting space will be open beginning at 7:50 AM\, 
 PT/ 8:50 AM\, MT/ 9:50 AM\, CT/ 10:50 AM\, ET/ 2:50 PM\, UTC.\n\nThe meeti
 ng will be accessible to members remotely by phone\, virtually online thro
 ugh a web browser\, and virtually online through the Meet App. To view how
  to access this meeting by phone\, please click on the link titled\, 'Clic
 k here to learn how to JOIN REMOTELY by PHONE.' To view how to access this
  meeting virtually through the Meet App click on the link titled\, 'Click 
 here to learn how to JOIN VIRTUALLY ONLINE through the Meet App.'
X-WR-RELCALID:34ac483845f31609bf0b374296a49ccf
X-WR-TIMEZONE:America/Chicago
BEGIN:VTIMEZONE
TZID:America/Chicago
BEGIN:STANDARD
TZNAME:CST
DTSTART:20201101T020000
TZOFFSETFROM:-0500
TZOFFSETTO:-0600
RDATE:20211107T020000
RDATE:20221106T020000
END:STANDARD
BEGIN:DAYLIGHT
TZNAME:CDT
DTSTART:20210314T020000
TZOFFSETFROM:-0600
TZOFFSETTO:-0500
RDATE:20220313T020000
RDATE:20230312T020000
END:DAYLIGHT
END:VTIMEZONE
BEGIN:VEVENT
UID:980c1bb8-0f77-404f-a293-5f9f0bac95da
DTSTAMP:20260421T055816Z
DESCRIPTION:The virtual meeting space will be open beginning at 7:50 AM\, P
 T/ 8:50 AM\, MT/ 9:50 AM\, CT/ 10:50 AM\, ET/ 2:50 PM\, UTC.\n\nThe meetin
 g will be accessible to members remotely by phone\, virtually online throu
 gh a web browser\, and virtually online through the Meet App. To view how 
 to access this meeting by phone\, please click on the link titled\, 'Click
  here to learn how to JOIN REMOTELY by PHONE.' To view how to access this 
 meeting virtually through the Meet App click on the link titled\, 'Click h
 ere to learn how to JOIN VIRTUALLY ONLINE through the Meet App.'
DTSTART;TZID=America/Chicago:20211023T100000
DTEND;TZID=America/Chicago:20211023T110000
LOCATION:https://meet.google.com/pbw-cghq-dcr
SUMMARY:2021 Annual EA Membership Business Meeting
END:VEVENT
END:VCALENDAR
