BEGIN:VCALENDAR
VERSION:2.0
PRODID:-//emotionsanonymous.org//NONSGML kigkonsult.se iCalcreator 2.30.10/
 /
CALSCALE:GREGORIAN
METHOD:PUBLISH
UID:bd68169b-2b0c-47ca-b114-8c982323065a
X-WR-CALDESC:We invite you to join us for our 5th Annual Telephone Conferen
 ce!  The theme is 'Recovery is Golden\,' celebrating 50 years of the Emoti
 ons Anonymous fellowship. The conference will take place Saturday\, Octobe
 r 16\, 2021\, from 10:30 AM to 5:00 PM\, Eastern Time. We hope you can joi
 n us! If necessary\, please make sure to convert the time into your local 
 time zone.
X-WR-RELCALID:8fa6d15c408a3b575bbff662d4ee25f7
X-WR-TIMEZONE:America/New_York
BEGIN:VTIMEZONE
TZID:America/New_York
BEGIN:STANDARD
TZNAME:EST
DTSTART:20201101T020000
TZOFFSETFROM:-0400
TZOFFSETTO:-0500
RDATE:20211107T020000
RDATE:20221106T020000
END:STANDARD
BEGIN:DAYLIGHT
TZNAME:EDT
DTSTART:20210314T020000
TZOFFSETFROM:-0500
TZOFFSETTO:-0400
RDATE:20220313T020000
RDATE:20230312T020000
END:DAYLIGHT
END:VTIMEZONE
BEGIN:VEVENT
UID:e503b406-aa21-4c10-b34f-54a36b8e5907
DTSTAMP:20260421T061611Z
DESCRIPTION:We invite you to join us for our 5th Annual Telephone Conferenc
 e!  The theme is 'Recovery is Golden\,' celebrating 50 years of the Emotio
 ns Anonymous fellowship. The conference will take place Saturday\, October
  16\, 2021\, from 10:30 AM to 5:00 PM\, Eastern Time. We hope you can join
  us! If necessary\, please make sure to convert the time into your local t
 ime zone.
DTSTART;TZID=America/New_York:20211016T103000
DTEND;TZID=America/New_York:20211016T170000
LOCATION:https://www.freeconferencecall.com/wall/eatelephoneconference5
SUMMARY:5th Annual Telephone Conference
END:VEVENT
END:VCALENDAR
