BEGIN:VCALENDAR
VERSION:2.0
PRODID:-//emotionsanonymous.org//NONSGML kigkonsult.se iCalcreator 2.30.10/
 /
CALSCALE:GREGORIAN
METHOD:PUBLISH
UID:7d6aed91-7b9c-436e-bbb4-cee24975b7e3
X-WR-CALDESC:Celebrating the 50th anniversary of EA!!\nAspects of this retr
 eat will be virtually available (see 'EA Seasons of Recovery Virtual July 
 2021 Retreat' in our calendar).\n\n\n
X-WR-RELCALID:92d47d15c8a09694dde4cbcbd1500bb4
X-WR-TIMEZONE:America/Chicago
BEGIN:VTIMEZONE
TZID:America/Chicago
BEGIN:STANDARD
TZNAME:CST
DTSTART:20201101T020000
TZOFFSETFROM:-0500
TZOFFSETTO:-0600
RDATE:20211107T020000
RDATE:20221106T020000
END:STANDARD
BEGIN:DAYLIGHT
TZNAME:CDT
DTSTART:20210314T020000
TZOFFSETFROM:-0600
TZOFFSETTO:-0500
RDATE:20220313T020000
END:DAYLIGHT
END:VTIMEZONE
BEGIN:VEVENT
UID:89fdfa41-164b-4866-8106-9657e3ab0876
DTSTAMP:20260423T110702Z
DESCRIPTION:Celebrating the 50th anniversary of EA!!\nAspects of this retre
 at will be virtually available (see 'EA Seasons of Recovery Virtual July 2
 021 Retreat' in our calendar).\n\n\n
DTSTART;TZID=America/Chicago:20210716T194500
DTEND;TZID=America/Chicago:20210718T130000
LOCATION:621 First Ave\, Buffalo\, MN 55313 US
SUMMARY:EA Seasons of Recovery Retreat in Buffalo\, MN
END:VEVENT
END:VCALENDAR
