BEGIN:VCALENDAR
VERSION:2.0
PRODID:-//emotionsanonymous.org//NONSGML kigkonsult.se iCalcreator 2.30.10/
 /
CALSCALE:GREGORIAN
METHOD:PUBLISH
UID:f4c9bc3f-c078-4ddc-ad4c-b0fd5937786c
X-WR-CALDESC:There is no pre-registration required for members attending re
 treat virtually/remotely. Members can attend any or all virtual/remote ses
 sions. The retreat is accessible virtually through Zoom and remotely by ph
 one. You do not have to download Zoom. You can click “Join from your brows
 er.”\n\nMeeting ID: 984 905 917\nPasscode: 044838 (enter the passcode when
  prompted)\nOne tap mobile phone number: +19294362866 (New York) \nDial by
  your location phone number: 1-312-626-6799 US (Chicago)\n\nSession 1 (Win
 ter) — 7-16-21: 8-9 PM\, CDT\nSession 2 (Spring) — 7-17-21: 9:45-11:45 AM\
 , CDT\nSession 3 (Summer) — 7-17-21: 1-3 PM\, CDT\nSession 4 (Renewal Serv
 ice) — 7-17-21: 7-8 PM\, CDT\nSession 5 (Fall) — 7-18-21: 10 AM - 12 (Noon
 ) PM\, CDT
X-WR-RELCALID:dfa4f567ca34d0be8e1b2396949a2d47
X-WR-TIMEZONE:America/Chicago
BEGIN:VTIMEZONE
TZID:America/Chicago
BEGIN:STANDARD
TZNAME:CST
DTSTART:20201101T020000
TZOFFSETFROM:-0500
TZOFFSETTO:-0600
RDATE:20211107T020000
RDATE:20221106T020000
END:STANDARD
BEGIN:DAYLIGHT
TZNAME:CDT
DTSTART:20210314T020000
TZOFFSETFROM:-0600
TZOFFSETTO:-0500
RDATE:20220313T020000
END:DAYLIGHT
END:VTIMEZONE
BEGIN:VEVENT
UID:a54d33eb-d0aa-43a8-96e2-0a9fda9ea854
DTSTAMP:20260423T111438Z
DESCRIPTION:There is no pre-registration required for members attending ret
 reat virtually/remotely. Members can attend any or all virtual/remote sess
 ions. The retreat is accessible virtually through Zoom and remotely by pho
 ne. You do not have to download Zoom. You can click “Join from your browse
 r.”\n\nMeeting ID: 984 905 917\nPasscode: 044838 (enter the passcode when 
 prompted)\nOne tap mobile phone number: +19294362866 (New York) \nDial by 
 your location phone number: 1-312-626-6799 US (Chicago)\n\nSession 1 (Wint
 er) — 7-16-21: 8-9 PM\, CDT\nSession 2 (Spring) — 7-17-21: 9:45-11:45 AM\,
  CDT\nSession 3 (Summer) — 7-17-21: 1-3 PM\, CDT\nSession 4 (Renewal Servi
 ce) — 7-17-21: 7-8 PM\, CDT\nSession 5 (Fall) — 7-18-21: 10 AM - 12 (Noon)
  PM\, CDT
DTSTART;TZID=America/Chicago:20210716T200000
DTEND;TZID=America/Chicago:20210716T210000
LOCATION:https://us02web.zoom.us/j/984905917?pwd=Zlk4azQxR1IwVmM1SjBJSlNJMD
 ltZz09#success
SUMMARY:EA Seasons of Recovery July 2021 Virtual Retreat
END:VEVENT
END:VCALENDAR
