BEGIN:VCALENDAR
VERSION:2.0
PRODID:-//emotionsanonymous.org//NONSGML kigkonsult.se iCalcreator 2.30.10/
 /
CALSCALE:GREGORIAN
METHOD:PUBLISH
UID:1a4e60ff-1ec7-48e5-abfc-7c2397fbcf79
X-WR-CALDESC:A new EA group's first meeting in North Salem\, NY.
X-WR-RELCALID:b4b74bbb2cfa00ffd3b0e3687c319fc8
X-WR-TIMEZONE:America/New_York
BEGIN:VTIMEZONE
TZID:America/New_York
BEGIN:STANDARD
TZNAME:EST
DTSTART:20201101T020000
TZOFFSETFROM:-0400
TZOFFSETTO:-0500
RDATE:20211107T020000
RDATE:20221106T020000
END:STANDARD
BEGIN:DAYLIGHT
TZNAME:EDT
DTSTART:20210314T020000
TZOFFSETFROM:-0500
TZOFFSETTO:-0400
RDATE:20220313T020000
END:DAYLIGHT
END:VTIMEZONE
BEGIN:VEVENT
UID:e63f1014-123c-4b3a-ab56-f3b142005692
DTSTAMP:20260423T124707Z
DESCRIPTION:A new EA group's first meeting in North Salem\, NY.
DTSTART;TZID=America/New_York:20210623T190000
DTEND;TZID=America/New_York:20210623T200000
LOCATION:296 Titicus Rd\, North Salem\, NE 10560 US
SUMMARY:North Salem\, NY New EA Group Meeting Starting
END:VEVENT
END:VCALENDAR
