BEGIN:VCALENDAR
VERSION:2.0
PRODID:-//emotionsanonymous.org//NONSGML kigkonsult.se iCalcreator 2.30.10/
 /
CALSCALE:GREGORIAN
METHOD:PUBLISH
UID:66ee3350-ffd5-49b5-8f79-5ea9d24b810f
X-WR-CALDESC:We are hoping to reach those many folks from out of state who 
 have participated in our meetings over the past year (as well as those pre
 vious group members we do not have contact info for)\, to advise them we'l
 l be transitioning back to an in-person meeting and address any business c
 oncerns.\n\nEmotions Anonymous Wednesday Night St. Paul Group Business Mee
 ting\nTue\, May 25\, 2021 7:00 PM - 8:00 PM (CDT)\n\nPlease join the meeti
 ng from your computer\, tablet\, or smartphone.\nMeeting Link: https://glo
 bal.gotomeeting.com/join/803720309\nYou can also dial in using your phone.
 \n(For supported devices\, tap a one-touch number below to join instantly.
 )\n\nUnited States: +1 (408) 650-3123\n- One-touch: tel:+14086503123\,\,80
 3720309#\nAccess Code: 803-720-309\n\nNew to GoToMeeting? Get the app now 
 and be ready when your first meeting starts: https://global.gotomeeting.co
 m/install/803720309
X-WR-RELCALID:df3444b2f83b36eaa5f444c938ea8187
X-WR-TIMEZONE:America/Chicago
BEGIN:VTIMEZONE
TZID:America/Chicago
BEGIN:STANDARD
TZNAME:CST
DTSTART:20201101T020000
TZOFFSETFROM:-0500
TZOFFSETTO:-0600
RDATE:20211107T020000
RDATE:20221106T020000
END:STANDARD
BEGIN:DAYLIGHT
TZNAME:CDT
DTSTART:20210314T020000
TZOFFSETFROM:-0600
TZOFFSETTO:-0500
RDATE:20220313T020000
END:DAYLIGHT
END:VTIMEZONE
BEGIN:VEVENT
UID:ab1568f3-0110-48ba-97f5-ed5359f9bcdf
DTSTAMP:20260423T144601Z
DESCRIPTION:We are hoping to reach those many folks from out of state who h
 ave participated in our meetings over the past year (as well as those prev
 ious group members we do not have contact info for)\, to advise them we'll
  be transitioning back to an in-person meeting and address any business co
 ncerns.\n\nEmotions Anonymous Wednesday Night St. Paul Group Business Meet
 ing\nTue\, May 25\, 2021 7:00 PM - 8:00 PM (CDT)\n\nPlease join the meetin
 g from your computer\, tablet\, or smartphone.\nMeeting Link: https://glob
 al.gotomeeting.com/join/803720309\nYou can also dial in using your phone.
 \n(For supported devices\, tap a one-touch number below to join instantly.
 )\n\nUnited States: +1 (408) 650-3123\n- One-touch: tel:+14086503123\,\,80
 3720309#\nAccess Code: 803-720-309\n\nNew to GoToMeeting? Get the app now 
 and be ready when your first meeting starts: https://global.gotomeeting.co
 m/install/803720309
DTSTART;TZID=America/Chicago:20210525T190000
DTEND;TZID=America/Chicago:20210525T200000
LOCATION:https://global.gotomeeting.com/join/803720309
SUMMARY:Hamline Midway EA Group (St. Paul\, MN) Business Meeting
END:VEVENT
END:VCALENDAR
