BEGIN:VCALENDAR
VERSION:2.0
PRODID:-//emotionsanonymous.org//NONSGML kigkonsult.se iCalcreator 2.30.10/
 /
CALSCALE:GREGORIAN
METHOD:PUBLISH
UID:e70fa991-a797-4749-bb39-a5da77e29a38
X-WR-CALDESC:Saturday\, April 3 & Sunday\, April 4\, 2021\nThe event is acc
 essible to members by phone\, online and app regardless of location.\n\nJu
 mpstart the Holiday with emotions pamphlets in the morning\n(Guilt (#94)\,
  Grief (#55) and/or Forgiveness (#51))\nMorning Session: 11 AM\, EST/ 10 A
 M\, CST/ 9 AM\, MST/ 8 AM\, PST\n\nContinue the day with a story of recove
 ry in the afternoon\nAfternoon Session: 3 PM\, EST/ 2 PM\, CST/ 1 PM\, MST
 / 12 PM (noon)\, PST\n\nWind down in the evening with recovery topics and 
 gratitude\nEvening Session: 8 PM\, EST/ 7 PM\, CST/ 6 PM\, MST/ 5 PM\, PST
 \n\nThese spring sessions are for you if you…\nAre struggling with forgive
 ness\, guilt or grief\nDesire to be free of guilt and shame\nWant to enter
  the acceptance stage of grief\nWant to experience gratitude and happiness
X-WR-RELCALID:1b29f11cd0d44559c6aa38484de78168
X-WR-TIMEZONE:America/Chicago
BEGIN:VTIMEZONE
TZID:America/Chicago
BEGIN:STANDARD
TZNAME:CST
DTSTART:20201101T020000
TZOFFSETFROM:-0500
TZOFFSETTO:-0600
RDATE:20211107T020000
END:STANDARD
BEGIN:DAYLIGHT
TZNAME:CDT
DTSTART:20210314T020000
TZOFFSETFROM:-0600
TZOFFSETTO:-0500
RDATE:20220313T020000
END:DAYLIGHT
END:VTIMEZONE
BEGIN:VEVENT
UID:f975b393-93d3-4235-9b3b-699927a65afe
DTSTAMP:20260423T162914Z
DESCRIPTION:Saturday\, April 3 & Sunday\, April 4\, 2021\nThe event is acce
 ssible to members by phone\, online and app regardless of location.\n\nJum
 pstart the Holiday with emotions pamphlets in the morning\n(Guilt (#94)\, 
 Grief (#55) and/or Forgiveness (#51))\nMorning Session: 11 AM\, EST/ 10 AM
 \, CST/ 9 AM\, MST/ 8 AM\, PST\n\nContinue the day with a story of recover
 y in the afternoon\nAfternoon Session: 3 PM\, EST/ 2 PM\, CST/ 1 PM\, MST/
  12 PM (noon)\, PST\n\nWind down in the evening with recovery topics and g
 ratitude\nEvening Session: 8 PM\, EST/ 7 PM\, CST/ 6 PM\, MST/ 5 PM\, PST
 \n\nThese spring sessions are for you if you…\nAre struggling with forgive
 ness\, guilt or grief\nDesire to be free of guilt and shame\nWant to enter
  the acceptance stage of grief\nWant to experience gratitude and happiness
DTSTART;TZID=America/Chicago:20210403T000000
DTEND;TZID=America/Chicago:20210403T235900
LOCATION:https://www.freeconferencecall.com/wall/eatelephoneconference5
SUMMARY:EA through the Holidays Worldwide 2021
END:VEVENT
END:VCALENDAR
