BEGIN:VCALENDAR
VERSION:2.0
PRODID:-//emotionsanonymous.org//NONSGML kigkonsult.se iCalcreator 2.30.10/
 /
CALSCALE:GREGORIAN
METHOD:PUBLISH
UID:9da42fd9-fdeb-4b23-af4c-1189a7cc3fb7
X-WR-CALDESC:A Guide to Working The Twelve Steps Study Group beginning Tues
 day\, January 5\, 2021\, 7:00 pm EST.\n\nThis study group is for you if yo
 u:\nare new to EA ~ are an Old Timer ~ have completed other Workbooks\nfin
 d other workbooks overwhelming ~ want to work the steps with a group\n\nJo
 in us by phone (712) 451-1140\, Participant Access Code: 808747#\nFor inte
 rnational dial in numbers please click here:\nhttps://fccdl.in/i/eatelepho
 neconference5\n\nNo fees are required to participate\, but you will need t
 he workbook entitled\, A Guide to Working The Twelve Steps (#75).\nPlease 
 note that after completing step 2\, the study group will be closed.
X-WR-RELCALID:8a3f63ca5fed85a54d54f19cbdcc3b19
X-WR-TIMEZONE:America/New_York
BEGIN:VTIMEZONE
TZID:America/New_York
BEGIN:STANDARD
TZNAME:EST
DTSTART:20201101T020000
TZOFFSETFROM:-0400
TZOFFSETTO:-0500
RDATE:20211107T020000
END:STANDARD
BEGIN:DAYLIGHT
TZNAME:EDT
DTSTART:20200308T020000
TZOFFSETFROM:-0500
TZOFFSETTO:-0400
RDATE:20210314T020000
RDATE:20220313T020000
END:DAYLIGHT
END:VTIMEZONE
BEGIN:VEVENT
UID:b0971436-9a21-49ce-a4f0-4a7da0f3720a
DTSTAMP:20260423T212323Z
DESCRIPTION:A Guide to Working The Twelve Steps Study Group beginning Tuesd
 ay\, January 5\, 2021\, 7:00 pm EST.\n\nThis study group is for you if you
 :\nare new to EA ~ are an Old Timer ~ have completed other Workbooks\nfind
  other workbooks overwhelming ~ want to work the steps with a group\n\nJoi
 n us by phone (712) 451-1140\, Participant Access Code: 808747#\nFor inter
 national dial in numbers please click here:\nhttps://fccdl.in/i/eatelephon
 econference5\n\nNo fees are required to participate\, but you will need th
 e workbook entitled\, A Guide to Working The Twelve Steps (#75).\nPlease n
 ote that after completing step 2\, the study group will be closed.
DTSTART;TZID=America/New_York:20210112T190000
DTEND;TZID=America/New_York:20210112T200000
LOCATION:https://www.freeconferencecall.com/wall/eatelephoneconference5
SUMMARY:New EA 12 Step Study Group
END:VEVENT
END:VCALENDAR
