BEGIN:VCALENDAR
VERSION:2.0
PRODID:-//emotionsanonymous.org//NONSGML kigkonsult.se iCalcreator 2.30.10/
 /
CALSCALE:GREGORIAN
METHOD:PUBLISH
UID:10b60ac6-40f2-46d8-b53f-895fc4a69500
X-WR-CALDESC:Morning	Meeting:        11 am EST	10 am CST	9 am MST	8 am PST\nAft
 ernoon Meeting:	  3 pm EST	  2 pm CST	1 pm MST	12 noon PST\nEvening Meeting:	  
         8 pm EST	  7 pm CST	6 pm MST	5 pm PST\n\nJOIN BY PHONE \nDial 712-451
 -1140 (USA)\, Participant Access Code: 808747#\nBy phone across the globe:
   https://fccdl.in/i/eatelephoneconference5\n\nJOIN ONLINE  \n1.  Go to ww
 w.FreeConferenceCall.com and click on LOG IN\n2.  Click on JOIN MEETING al
 ong the top\n3.  Enter the meeting ID:  eatelephoneconference5 (exactly as
  written)\n4.  Type in your Name and Email\; then click on JOIN\n5.  Click
  on the HANDSET icon\n6.  Click on the MIC & SPEAKERS or TELEPHONE HANDSET
  icon\n
X-WR-RELCALID:d758bb09dedc2cbbae07e2764cb6aa91
X-WR-TIMEZONE:America/Chicago
BEGIN:VTIMEZONE
TZID:America/Chicago
BEGIN:STANDARD
TZNAME:CST
DTSTART:20201101T020000
TZOFFSETFROM:-0500
TZOFFSETTO:-0600
RDATE:20211107T020000
END:STANDARD
BEGIN:DAYLIGHT
TZNAME:CDT
DTSTART:20200308T020000
TZOFFSETFROM:-0600
TZOFFSETTO:-0500
RDATE:20210314T020000
RDATE:20220313T020000
END:DAYLIGHT
END:VTIMEZONE
BEGIN:VEVENT
UID:a4cc256b-4f66-438b-a358-47152e9b3577
DTSTAMP:20260423T230111Z
DESCRIPTION:Morning	Meeting:        11 am EST	10 am CST	9 am MST	8 am PST\nAfte
 rnoon Meeting:	  3 pm EST	  2 pm CST	1 pm MST	12 noon PST\nEvening Meeting:	   
        8 pm EST	  7 pm CST	6 pm MST	5 pm PST\n\nJOIN BY PHONE \nDial 712-451-
 1140 (USA)\, Participant Access Code: 808747#\nBy phone across the globe: 
  https://fccdl.in/i/eatelephoneconference5\n\nJOIN ONLINE  \n1.  Go to www
 .FreeConferenceCall.com and click on LOG IN\n2.  Click on JOIN MEETING alo
 ng the top\n3.  Enter the meeting ID:  eatelephoneconference5 (exactly as 
 written)\n4.  Type in your Name and Email\; then click on JOIN\n5.  Click 
 on the HANDSET icon\n6.  Click on the MIC & SPEAKERS or TELEPHONE HANDSET 
 icon\n
DTSTART;TZID=America/Chicago:20201231T000000
DTEND;TZID=America/Chicago:20201231T235900
LOCATION:https://www.freeconferencecall.com/wall/eatelephoneconference5
SUMMARY:New Year's Eve EA Telephone & Online Meetings
END:VEVENT
END:VCALENDAR
