BEGIN:VCALENDAR
VERSION:2.0
PRODID:-//emotionsanonymous.org//NONSGML kigkonsult.se iCalcreator 2.30.10/
 /
CALSCALE:GREGORIAN
METHOD:PUBLISH
UID:cd3f14f1-ca91-428a-a8ee-478d082a65fb
X-WR-CALDESC:
X-WR-RELCALID:90f34fa89a64c3d96682ab56d661e891
X-WR-TIMEZONE:America/Chicago
BEGIN:VTIMEZONE
TZID:America/Chicago
BEGIN:STANDARD
TZNAME:CST
DTSTART:20201101T020000
TZOFFSETFROM:-0500
TZOFFSETTO:-0600
RDATE:20211107T020000
END:STANDARD
BEGIN:DAYLIGHT
TZNAME:CDT
DTSTART:20200308T020000
TZOFFSETFROM:-0600
TZOFFSETTO:-0500
RDATE:20210314T020000
RDATE:20220313T020000
END:DAYLIGHT
END:VTIMEZONE
BEGIN:VEVENT
UID:dd3aad55-2546-4527-a324-d5bfba411fb6
DTSTAMP:20260423T225753Z
DESCRIPTION:
DTSTART;TZID=America/Chicago:20201210T163000
DTEND;TZID=America/Chicago:20201210T173000
LOCATION:
SUMMARY:Board of Trustees Monthly Meeting
END:VEVENT
END:VCALENDAR
