BEGIN:VCALENDAR
VERSION:2.0
PRODID:-//emotionsanonymous.org//NONSGML kigkonsult.se iCalcreator 2.30.10/
 /
CALSCALE:GREGORIAN
METHOD:PUBLISH
UID:1983ff3f-e37f-4af5-8384-35c7b56d7aac
X-WR-CALDESC:
X-WR-RELCALID:bc2a8d2a1fd434f3bfc894082874b5ed
X-WR-TIMEZONE:America/Chicago
BEGIN:VTIMEZONE
TZID:America/Chicago
BEGIN:STANDARD
TZNAME:CST
DTSTART:20201101T020000
TZOFFSETFROM:-0500
TZOFFSETTO:-0600
RDATE:20211107T020000
END:STANDARD
BEGIN:DAYLIGHT
TZNAME:CDT
DTSTART:20200308T020000
TZOFFSETFROM:-0600
TZOFFSETTO:-0500
RDATE:20210314T020000
RDATE:20220313T020000
END:DAYLIGHT
END:VTIMEZONE
BEGIN:VEVENT
UID:6e9dc1bf-93eb-4f5e-b0de-5009352f6d84
DTSTAMP:20260424T005346Z
DESCRIPTION:
DTSTART;TZID=America/Chicago:20201112T163000
DTEND;TZID=America/Chicago:20201112T173000
LOCATION:
SUMMARY:Board of Trustees Monthly Meeting
END:VEVENT
END:VCALENDAR
