BEGIN:VCALENDAR
VERSION:2.0
PRODID:-//emotionsanonymous.org//NONSGML kigkonsult.se iCalcreator 2.30.10/
 /
CALSCALE:GREGORIAN
METHOD:PUBLISH
UID:494fcf66-016f-4f4d-93b3-6ce6c29a5bd1
X-WR-CALDESC:Conference theme is 'Carrying the Message: A Message of Hope'
 \n\nCONFERENCE SCHEDULE (Eastern Time)\n10:30 am	Welcome and The Yellow Pam
 phlet\n11:00 am	Healing Through Carrying the Message\n12:00 noon	Carrying th
 e Message by Working the Steps\n1:00 pm	        H.O.W. to: Carrying the Mes
 sage to Others\n2:00 pm	        Sharing the Message Through Sponsorship\n3:
 00 pm	        Carrying the Message Through Slogans	\n4:00 pm	        Self-Car
 e While Carrying the Message\n\nJOIN BY PHONE\nIn the United States call (
 712) 451-1140\, Participant Access Code: 808747#\nSee this link for other 
 countries (Long distance calling rates may apply.):  https://fccdl.in/i/ea
 telephoneconference5\n\nJOIN ONLINE  (Please try signing in well before th
 e conference to avoid glitches.)\n1.  Go to www.FreeConferenceCall.com and
  click on LOG IN\n2.  Click on JOIN along the top\n3.  Enter the meeting I
 D:  eatelephoneconference5\n4.  Type in your Name and Email\; then click o
 n JOIN\n5.  Click on the HANDSET icon\n6.  Click on the MIC & SPEAKERS or 
 TELEPHONE HANDSET icon
X-WR-RELCALID:402506b7d5c10479f75d96a13a97a71f
X-WR-TIMEZONE:America/New_York
BEGIN:VTIMEZONE
TZID:America/New_York
BEGIN:STANDARD
TZNAME:EST
DTSTART:20191103T020000
TZOFFSETFROM:-0400
TZOFFSETTO:-0500
RDATE:20201101T020000
RDATE:20211107T020000
END:STANDARD
BEGIN:DAYLIGHT
TZNAME:EDT
DTSTART:20200308T020000
TZOFFSETFROM:-0500
TZOFFSETTO:-0400
RDATE:20210314T020000
RDATE:20220313T020000
END:DAYLIGHT
END:VTIMEZONE
BEGIN:VEVENT
UID:68c2b7f0-9fd7-4466-8074-d493b62f78aa
DTSTAMP:20260424T021103Z
DESCRIPTION:Conference theme is 'Carrying the Message: A Message of Hope'\n
 \nCONFERENCE SCHEDULE (Eastern Time)\n10:30 am	Welcome and The Yellow Pamph
 let\n11:00 am	Healing Through Carrying the Message\n12:00 noon	Carrying the 
 Message by Working the Steps\n1:00 pm	        H.O.W. to: Carrying the Messa
 ge to Others\n2:00 pm	        Sharing the Message Through Sponsorship\n3:00
  pm	        Carrying the Message Through Slogans	\n4:00 pm	        Self-Care 
 While Carrying the Message\n\nJOIN BY PHONE\nIn the United States call (71
 2) 451-1140\, Participant Access Code: 808747#\nSee this link for other co
 untries (Long distance calling rates may apply.):  https://fccdl.in/i/eate
 lephoneconference5\n\nJOIN ONLINE  (Please try signing in well before the 
 conference to avoid glitches.)\n1.  Go to www.FreeConferenceCall.com and c
 lick on LOG IN\n2.  Click on JOIN along the top\n3.  Enter the meeting ID:
   eatelephoneconference5\n4.  Type in your Name and Email\; then click on 
 JOIN\n5.  Click on the HANDSET icon\n6.  Click on the MIC & SPEAKERS or TE
 LEPHONE HANDSET icon
DTSTART;TZID=America/New_York:20201017T103000
DTEND;TZID=America/New_York:20201017T170000
LOCATION:Remotely via Phone/Online
SUMMARY:EA's 4th Annual Telephone Conference
END:VEVENT
END:VCALENDAR
