BEGIN:VCALENDAR
VERSION:2.0
PRODID:-//emotionsanonymous.org//NONSGML kigkonsult.se iCalcreator 2.30.10/
 /
CALSCALE:GREGORIAN
METHOD:PUBLISH
UID:2408a9ec-66a0-46e1-9ebd-9136b91456e7
X-WR-CALDESC:More information coming soon. Maggiori informazioni in arrivo
X-WR-RELCALID:cf84c3b8594a9bf0e1a3eaa4d070ca1d
X-WR-TIMEZONE:America/Chicago
BEGIN:VTIMEZONE
TZID:America/Chicago
BEGIN:STANDARD
TZNAME:CST
DTSTART:20191103T020000
TZOFFSETFROM:-0500
TZOFFSETTO:-0600
RDATE:20201101T020000
RDATE:20211107T020000
END:STANDARD
BEGIN:DAYLIGHT
TZNAME:CDT
DTSTART:20200308T020000
TZOFFSETFROM:-0600
TZOFFSETTO:-0500
RDATE:20210314T020000
RDATE:20220313T020000
END:DAYLIGHT
END:VTIMEZONE
BEGIN:VEVENT
UID:e0116920-a710-46c7-be59-31610f60e4ee
DTSTAMP:20260424T020928Z
DESCRIPTION:More information coming soon. Maggiori informazioni in arrivo
DTSTART;TZID=America/Chicago:20201017T000000
DTEND;TZID=America/Chicago:20201018T235900
LOCATION:Rome\, Italy
SUMMARY:EA Italy Convention
END:VEVENT
END:VCALENDAR
