BEGIN:VCALENDAR
VERSION:2.0
PRODID:-//emotionsanonymous.org//NONSGML kigkonsult.se iCalcreator 2.30.10/
 /
CALSCALE:GREGORIAN
METHOD:PUBLISH
UID:6a9e2abc-959a-48d4-9bd0-007027d115d5
X-WR-CALDESC:Please join us for the Annual Membership meeting. This year th
 e meeting will be held completely virtually This is an opportunity to hear
  from your Trustees and provide feedback on the organization. There are no
  items requiring any membership voting at this year's meeting. The agenda 
 and Go To Meeting access information can be found here and on our website.
 \n\nEA Annual Meeting\nSat\, Sep 26\, 2020 10:30 AM - 12:00 PM (CDT)\n\nPl
 ease join the meeting from your computer\, tablet or smartphone.\nhttps://
 global.gotomeeting.com/join/951603885\n\nYou can also dial in using your p
 hone.\n(For supported devices\, tap a one-touch number below to join insta
 ntly.)\n\nUnited States: +1 (224) 501-3412\, Participant Access Code: 951 
 603 885#\nOne-touch Number: +1-224-501-3412\, Participant Access Code: 951
 603885#\n\nNew to GoToMeeting? Get the app now and be ready when your firs
 t meeting starts: https://global.gotomeeting.com/install/951603885
X-WR-RELCALID:2d7d7b9586004e5144499557109655fe
X-WR-TIMEZONE:America/Chicago
BEGIN:VTIMEZONE
TZID:America/Chicago
BEGIN:STANDARD
TZNAME:CST
DTSTART:20191103T020000
TZOFFSETFROM:-0500
TZOFFSETTO:-0600
RDATE:20201101T020000
RDATE:20211107T020000
END:STANDARD
BEGIN:DAYLIGHT
TZNAME:CDT
DTSTART:20200308T020000
TZOFFSETFROM:-0600
TZOFFSETTO:-0500
RDATE:20210314T020000
RDATE:20220313T020000
END:DAYLIGHT
END:VTIMEZONE
BEGIN:VEVENT
UID:696efd76-3076-41cc-9140-82e2120844ee
DTSTAMP:20260424T034113Z
DESCRIPTION:Please join us for the Annual Membership meeting. This year the
  meeting will be held completely virtually This is an opportunity to hear 
 from your Trustees and provide feedback on the organization. There are no 
 items requiring any membership voting at this year's meeting. The agenda a
 nd Go To Meeting access information can be found here and on our website.
 \n\nEA Annual Meeting\nSat\, Sep 26\, 2020 10:30 AM - 12:00 PM (CDT)\n\nPl
 ease join the meeting from your computer\, tablet or smartphone.\nhttps://
 global.gotomeeting.com/join/951603885\n\nYou can also dial in using your p
 hone.\n(For supported devices\, tap a one-touch number below to join insta
 ntly.)\n\nUnited States: +1 (224) 501-3412\, Participant Access Code: 951 
 603 885#\nOne-touch Number: +1-224-501-3412\, Participant Access Code: 951
 603885#\n\nNew to GoToMeeting? Get the app now and be ready when your firs
 t meeting starts: https://global.gotomeeting.com/install/951603885
DTSTART;TZID=America/Chicago:20200926T103000
DTEND;TZID=America/Chicago:20200926T120000
LOCATION:https://global.gotomeeting.com/join/951603885
SUMMARY:EAI Annual Membership Meeting
END:VEVENT
END:VCALENDAR
