BEGIN:VCALENDAR
VERSION:2.0
PRODID:-//emotionsanonymous.org//NONSGML kigkonsult.se iCalcreator 2.30.10/
 /
CALSCALE:GREGORIAN
METHOD:PUBLISH
UID:309f3d5a-c591-40df-b38b-ca4982aa2ada
X-WR-CALDESC:
X-WR-RELCALID:3fd4f1d2740b1a65a9a3e8dad26a30e0
X-WR-TIMEZONE:Europe/Amsterdam
BEGIN:VTIMEZONE
TZID:Europe/Amsterdam
BEGIN:STANDARD
TZNAME:CET
DTSTART:20191027T030000
TZOFFSETFROM:+0200
TZOFFSETTO:+0100
RDATE:20201025T030000
RDATE:20211031T030000
END:STANDARD
BEGIN:DAYLIGHT
TZNAME:CEST
DTSTART:20200329T020000
TZOFFSETFROM:+0100
TZOFFSETTO:+0200
RDATE:20210328T020000
END:DAYLIGHT
END:VTIMEZONE
BEGIN:VEVENT
UID:70864153-587f-43c1-9b09-05c492e82f74
DTSTAMP:20260424T034112Z
DESCRIPTION:
DTSTART;TZID=Europe/Amsterdam:20200918T000000
DTEND;TZID=Europe/Amsterdam:20200920T235900
LOCATION:
SUMMARY:EA-Convention in Hamburg\, Germany
END:VEVENT
END:VCALENDAR
