BEGIN:VCALENDAR
VERSION:2.0
PRODID:-//emotionsanonymous.org//NONSGML kigkonsult.se iCalcreator 2.30.10/
 /
CALSCALE:GREGORIAN
METHOD:PUBLISH
UID:b58a4478-e63f-4ff4-b6e6-63f9c9955ae6
X-WR-CALDESC:
X-WR-RELCALID:781ed9b73a85a2296da1defa95ffcec4
X-WR-TIMEZONE:America/Chicago
BEGIN:VTIMEZONE
TZID:America/Chicago
BEGIN:STANDARD
TZNAME:CST
DTSTART:20191103T020000
TZOFFSETFROM:-0500
TZOFFSETTO:-0600
RDATE:20201101T020000
RDATE:20211107T020000
END:STANDARD
BEGIN:DAYLIGHT
TZNAME:CDT
DTSTART:20200308T020000
TZOFFSETFROM:-0600
TZOFFSETTO:-0500
RDATE:20210314T020000
END:DAYLIGHT
END:VTIMEZONE
BEGIN:VEVENT
UID:902da097-92c3-4bdb-afd8-f9501df5c98b
DTSTAMP:20260424T034118Z
DESCRIPTION:
DTSTART;TZID=America/Chicago:20200910T163000
DTEND;TZID=America/Chicago:20200910T173000
LOCATION:
SUMMARY:Board of Trustees Monthly Meeting
END:VEVENT
END:VCALENDAR
