BEGIN:VCALENDAR
VERSION:2.0
PRODID:-//emotionsanonymous.org//NONSGML kigkonsult.se iCalcreator 2.30.10/
 /
CALSCALE:GREGORIAN
METHOD:PUBLISH
UID:2cf0d79e-7c6c-48d1-a95a-85e690741605
X-WR-CALDESC:Using the “Welcoming the Spiritual Awakening Within Me” (#83) 
 workbook.\nSESSION 1 - Stage 1 Recovery – Surrender and Stabilization\nSES
 SION 2 – Reflection Time\nSESSION 3 - Stage 2 Recovery – Understanding\nSE
 SSION 4 - Stage 3 Recovery – Thriving
X-WR-RELCALID:2cd597e85f7a2cc0aaee428a4e817a3f
X-WR-TIMEZONE:America/Chicago
BEGIN:VTIMEZONE
TZID:America/Chicago
BEGIN:STANDARD
TZNAME:CST
DTSTART:20191103T020000
TZOFFSETFROM:-0500
TZOFFSETTO:-0600
RDATE:20201101T020000
RDATE:20211107T020000
END:STANDARD
BEGIN:DAYLIGHT
TZNAME:CDT
DTSTART:20200308T020000
TZOFFSETFROM:-0600
TZOFFSETTO:-0500
RDATE:20210314T020000
END:DAYLIGHT
END:VTIMEZONE
BEGIN:VEVENT
UID:c6dd92c8-4ecb-45c6-96fa-5e58bb38a06d
DTSTAMP:20260424T063727Z
DESCRIPTION:Using the “Welcoming the Spiritual Awakening Within Me” (#83) w
 orkbook.\nSESSION 1 - Stage 1 Recovery – Surrender and Stabilization\nSESS
 ION 2 – Reflection Time\nSESSION 3 - Stage 2 Recovery – Understanding\nSES
 SION 4 - Stage 3 Recovery – Thriving
DTSTART;TZID=America/Chicago:20200717T000000
DTEND;TZID=America/Chicago:20200718T235900
LOCATION:Remotely via Zoom
SUMMARY:EA Zoom Retreat
END:VEVENT
END:VCALENDAR
