BEGIN:VCALENDAR
VERSION:2.0
PRODID:-//emotionsanonymous.org//NONSGML kigkonsult.se iCalcreator 2.30.10/
 /
CALSCALE:GREGORIAN
METHOD:PUBLISH
UID:6b2894c5-cae8-46b6-be93-bb3fcf98a6f1
X-WR-CALDESC:
X-WR-RELCALID:401aa1318feff5631e9fad06afa74fbe
X-WR-TIMEZONE:America/Chicago
BEGIN:VTIMEZONE
TZID:America/Chicago
BEGIN:STANDARD
TZNAME:CST
DTSTART:20191103T020000
TZOFFSETFROM:-0500
TZOFFSETTO:-0600
RDATE:20201101T020000
RDATE:20211107T020000
END:STANDARD
BEGIN:DAYLIGHT
TZNAME:CDT
DTSTART:20200308T020000
TZOFFSETFROM:-0600
TZOFFSETTO:-0500
RDATE:20210314T020000
END:DAYLIGHT
END:VTIMEZONE
BEGIN:VEVENT
UID:693bf84f-5c88-4b80-b14b-21de07e46d40
DTSTAMP:20260424T080309Z
DESCRIPTION:
DTSTART;TZID=America/Chicago:20200615T000000
DTEND;TZID=America/Chicago:20200615T235900
LOCATION:
SUMMARY:Deadline for Board of Trustee Applications
END:VEVENT
END:VCALENDAR
