BEGIN:VCALENDAR
VERSION:2.0
PRODID:-//emotionsanonymous.org//NONSGML kigkonsult.se iCalcreator 2.30.10/
 /
CALSCALE:GREGORIAN
METHOD:PUBLISH
UID:8c2074a7-86bf-47c0-84c2-4bb4ef624868
X-WR-CALDESC:Conference Theme: Find the Happy Medium and Keep It\nFebruary 
 21st to 24th - 2020\n\nFurther Information at:  www.e-und-a.jimdo.com/even
 ts/neustadt
X-WR-RELCALID:f6a41715217c9535dbd4aaa0d9fd97f3
X-WR-TIMEZONE:Europe/Amsterdam
BEGIN:VTIMEZONE
TZID:Europe/Amsterdam
BEGIN:STANDARD
TZNAME:CET
DTSTART:20191027T030000
TZOFFSETFROM:+0200
TZOFFSETTO:+0100
RDATE:20201025T030000
END:STANDARD
BEGIN:DAYLIGHT
TZNAME:CEST
DTSTART:20190331T020000
TZOFFSETFROM:+0100
TZOFFSETTO:+0200
RDATE:20200329T020000
RDATE:20210328T020000
END:DAYLIGHT
END:VTIMEZONE
BEGIN:VEVENT
UID:083c62a1-2ed8-41a2-8a8c-d603bd0c3c6d
DTSTAMP:20260424T141753Z
DESCRIPTION:Conference Theme: Find the Happy Medium and Keep It\nFebruary 2
 1st to 24th - 2020\n\nFurther Information at:  www.e-und-a.jimdo.com/event
 s/neustadt
DTSTART;TZID=Europe/Amsterdam:20200221T050000
DTEND;TZID=Europe/Amsterdam:20200224T030000
LOCATION:Neustadt / Weinstraße - Youth Hostel - Germany
SUMMARY:Find the Happy Medium and Keep It: Conference in Germany
END:VEVENT
END:VCALENDAR
